BEGIN:VCALENDAR
VERSION:2.0
PRODID:-//wp-events-plugin.com//7.2.3.1//EN
TZID:America/New_York
X-WR-TIMEZONE:America/New_York
BEGIN:VEVENT
UID:1249@wlcj.org
DTSTART;TZID=America/New_York;VALUE=DATE:20250501
DTEND;TZID=America/New_York;VALUE=DATE:20250502
DTSTAMP:20250424T113223Z
URL:https://www.wlcj.org/events/wlcj-offices-are-moving/
SUMMARY:WLCJ Offices are Moving!
DESCRIPTION:On May 1\, 2025\, WLCJ will be at their new office located at:\
 n\n3080 Broadway\, Suite K900\nNew York\, NY 10027\n\nPlease note ALL ship
 ping on orders during April 28th through May 5th will experience delays. W
 e apologize for any inconvinence.
ATTACH;FMTTYPE=image/jpeg:https://www.wlcj.org/wp-content/uploads/2025/04/
 WLCJ-is-moving-website.jpg
CATEGORIES:Featured
END:VEVENT
BEGIN:VTIMEZONE
TZID:America/New_York
X-LIC-LOCATION:America/New_York
BEGIN:DAYLIGHT
DTSTART:20250309T030000
TZOFFSETFROM:-0500
TZOFFSETTO:-0400
TZNAME:EDT
END:DAYLIGHT
END:VTIMEZONE
END:VCALENDAR