BEGIN:VCALENDAR
VERSION:2.0
PRODID:-//wp-events-plugin.com//7.2.3.1//EN
TZID:America/New_York
X-WR-TIMEZONE:America/New_York
BEGIN:VEVENT
UID:416@wlcj.org
DTSTART;TZID=America/New_York:20220313T140000
DTEND;TZID=America/New_York:20220313T150000
DTSTAMP:20220228T021439Z
URL:https://www.wlcj.org/events/wl-reads-sunday-march-13/
SUMMARY:WL Reads
DESCRIPTION:[This Program is scheduled on Eastern Time Zone]\n\nWL&nbsp\;Re
 ads&nbsp\;co-chairs Merle Carrus and Susan Farber&nbsp\;will be interviewi
 ng Julie Zuckerman\, author of The Book of Jeremiah.&nbsp\;\n\nMore inform
 ation to be announced closer to date.\n\nJoin the author and WL Reads co-c
 hairs this March 13th.\n\nZoom link will be sent upon registering.\n\nCLIC
 K HERE TO REGISTER\n\nQuestions?\nContact WL Reads Co-Chairs\nMerle Carrus
  &nbsp\;or&nbsp\; &nbsp\;Susan Farber
ATTACH;FMTTYPE=image/jpeg:https://www.wlcj.org/wp-content/uploads/2021/10/
 WL-Reads.png
CATEGORIES:Featured
END:VEVENT
BEGIN:VTIMEZONE
TZID:America/New_York
X-LIC-LOCATION:America/New_York
BEGIN:DAYLIGHT
DTSTART:20220313T030000
TZOFFSETFROM:-0500
TZOFFSETTO:-0400
TZNAME:EDT
END:DAYLIGHT
END:VTIMEZONE
END:VCALENDAR