BEGIN:VCALENDAR
VERSION:2.0
PRODID:-//wp-events-plugin.com//7.2.3.1//EN
TZID:America/New_York
X-WR-TIMEZONE:America/New_York
BEGIN:VEVENT
UID:1394@wlcj.org
DTSTART;TZID=America/New_York:20260528T120000
DTEND;TZID=America/New_York:20260528T131500
DTSTAMP:20260421T210520Z
URL:https://www.wlcj.org/events/wl-kehilah-education-membership-dress-as-y
 our-best-self/
SUMMARY:WL Kehilah/Education/Membership: Dress as Your Best Self!
DESCRIPTION:This Program is scheduled on Eastern Time Zone\nDress as Your B
 est Self!\n\n&nbsp\;\n\n\nJoin us for a special Lunch &amp\; Learn as you 
 get ready for Convention in style!\n\nAre you attending the WLCJ Conventio
 n 2026? Don’t miss this engaging and practical session:\n“Dress as You
 r Best Self!”\n\nDiscover how to create the image you want to present wh
 ile traveling and attending Convention. Hear expert wardrobe and packing t
 ips from Alexandra Jimenez\, founder of Travel Fashion Girl\, who will sha
 re smart strategies to help you pack efficiently and dress with confidence
  throughout Convention.\n\nYou’ll also hear from our “mystery guest\,
 ” Jody Glass\, who will offer creative ideas for making a stylish mask f
 or Tuesday evening’s Convention event.\n\nWhether you’re wondering wha
 t to pack\, how to coordinate outfits\, or how to present your best self\,
  this session is designed especially for women attending Convention.\n\nCo
 me prepared to learn\, plan\, and feel confident heading into July!\n\n\n\
 n&nbsp\;\n\n&nbsp\;\nFeatured Speakers:\n Alexandra Jimenez quit her corpo
 rate job in the fashion industry and then spent a decade traveling full-ti
 me through 50+ countries. In 2012\, she launched Travel Fashion Girl\, whe
 re she teaches female travelers to pack in a light\, stylish\, and efficie
 nt way. From reaching 1\,000\,000 monthly website visitors to creating a 1
 00\,000-member Facebook community and launching her own product line\, Com
 pass Rose Travel Accessories\, Alex’s accolades have led her to become a
  frequent podcast guest and conference speaker\, sharing her entrepreneuri
 al insights on turning her blog into a 7-figure business. Most recently\, 
 she acquired Women’s Travel Fest\, an annual conference that aims to emp
 ower women through travel\, community\, and connection. When she’s not w
 orking on her travel businesses\, she’s growing her real estate portfoli
 o\, which includes several Airbnbs in addition to traditional rental prope
 rties. She’s been featured in the New York Times\, Cosmopolitan\, Harper
 ’s Bazaar\, Oprah\, New York Post\, Forbes\, USA Today\, and other promi
 nent news outlets. \n\nJody Glass is currently completing her third term a
 s the Creative Judaic Arts Chairperson. During her term\, she has assisted
  many sisterhoods in creating programs\, run many Zoom classes and created
  the Hiddur Mitzvah listserv&nbsp\;for sisterhoods to share programming id
 eas. Personally\, she has been married for 46 years to Danny\, and they ha
 ve two daughters and three&nbsp\;wonderful grandchildren.&nbsp\;She is the
  owner of two&nbsp\;internet businesses\, The Needlepoint Company and Don
 ’t Forget the Gift. She is a member of Temple Beth Torah Sha’aray Tzed
 ek in Tamarac\, Florida. She has served in many leadership positions. She 
 currently co-chairs Marketing and is the Executive Vice President.&nbsp\;A
 s a member of the Fabulous Florida Region\, she runs hands-on craft projec
 ts for their Sisterhoods\, updates their Facebook page\, and website. She 
 enjoys bringing craft projects to people who feel they are not creative an
 d watching their surprise when they see they are! \n&nbsp\;\n\n\n&nbsp\;\n
 \n\nQuestions?\n\nDoreen Bornfreund | dbornfreund@wlcj.org&nbsp\; \nWLCJ V
 ice President and Membership Chair\n\n&nbsp\;\nFran Hildebrandt | fhildebr
 andt@wlcj.org&nbsp\; \nWLCJ Vice President and Kehilah/Education Chair\n&n
 bsp\;\n&nbsp\;\nREGISTER\n\nRegistration is only open to WL members\, you 
 must log in (https://www.wlcjmembers.org/member_login.php) to register. If
  you need assistance\, please contact the office (405) 870-1260.\n\n&nbsp\
 ;\n\n
ATTACH;FMTTYPE=image/jpeg:https://www.wlcj.org/wp-content/uploads/2026/04/
 WL-Kehilah-may-28-website.jpg
CATEGORIES:Featured
END:VEVENT
BEGIN:VTIMEZONE
TZID:America/New_York
X-LIC-LOCATION:America/New_York
BEGIN:DAYLIGHT
DTSTART:20260308T030000
TZOFFSETFROM:-0500
TZOFFSETTO:-0400
TZNAME:EDT
END:DAYLIGHT
END:VTIMEZONE
END:VCALENDAR