BEGIN:VCALENDAR
VERSION:2.0
PRODID:-//wp-events-plugin.com//7.2.3.1//EN
TZID:America/New_York
X-WR-TIMEZONE:America/New_York
BEGIN:VEVENT
UID:369@wlcj.org
DTSTART;TZID=America/New_York:20211114T130000
DTEND;TZID=America/New_York:20211114T143000
DTSTAMP:20211013T140152Z
URL:https://www.wlcj.org/events/sichot-beyn-achayot-workshop2/
SUMMARY:Sichot beyn Achayot: Conversations between SISTERS - Workshop 2 - S
 unday\, November 14th @ 1:00 PM ET
DESCRIPTION:Workshop 2\n\nSpeakers:&nbsp\;\nWomen’s League: Rabbi Debra C
 antor\, Congregation B'Nai Tikvoh\, Bloomfield\, CT\nMasorti Olami: Rakefe
 t Ginsberg\, Executive Director Masorti Movement in Israel\nTopic: Davenin
 g as Conservative/Masorti Women\n&nbsp\;\nTwo speakers will examine the qu
 estion of davening as Conservative/ Masorti women\; they will address the 
 experience of davening with Women of the Wall\, and also davening in an eg
 alitarian setting at Robinson’s Arch.\n&nbsp\;\nProgram funded by: gener
 ous grant from KKL/MERCAZ\n&nbsp\;\nThis program is designed to foster a d
 eeper mutual understanding between the members of WLCJ in North America an
 d the Masorti Olami women of Israel. It is designed to address the questio
 n\, “How are we the same\, and how are we different?\n&nbsp\;\nEach of t
 he 3 workshops will address this question by concentrating on one specific
  issue that is both relevant and timely to us all\, and will include prese
 ntations from 2 speakers\, one from each side of the Atlantic. This worksh
 op will each be followed by a Q&amp\;A session in which all attendees will
  be encouraged to participate. The third and last workshop\, coming in Dec
 ember\, will conclude with breakout rooms in which participants will have 
 an opportunity to join the conversation. Click here for the Conversations 
 Between Sisters_3 Workshops Flyer.\n&nbsp\;\nRegistration for each session
  will be separate. This registration is for the October 17th session only.
  Registration for the other two programs in November and December will hav
 e separate registration links.\n\n&nbsp\;\nREGISTER HERE\n\n\nParticipatio
 n in this program is a benefit of your membership.&nbsp\;\nQuestions?\nCon
 tact Rabbi Margie Cella\nmcella@wlcj.org\n
ATTACH;FMTTYPE=image/jpeg:https://www.wlcj.org/wp-content/uploads/2021/10/
 Screen-Shot-2021-09-01-at-5.26.47-AM.png
CATEGORIES:Featured
END:VEVENT
BEGIN:VTIMEZONE
TZID:America/New_York
X-LIC-LOCATION:America/New_York
BEGIN:STANDARD
DTSTART:20211107T010000
TZOFFSETFROM:-0400
TZOFFSETTO:-0500
TZNAME:EST
END:STANDARD
END:VTIMEZONE
END:VCALENDAR