BEGIN:VCALENDAR
VERSION:2.0
PRODID:-//wp-events-plugin.com//7.2.3.1//EN
TZID:America/New_York
X-WR-TIMEZONE:America/New_York
BEGIN:VEVENT
UID:598@wlcj.org
DTSTART;TZID=America/New_York:20230320T140000
DTEND;TZID=America/New_York:20230320T153000
DTSTAMP:20230504T091735Z
URL:https://www.wlcj.org/events/jews-in-film-night-and-day-the-jewish-conn
 ection-to-the-movie-musicals-of-the-1940s-3-of-3/
SUMMARY:Jews in Film - NIGHT AND DAY — The Jewish Connection to the Movie
  Musicals of the 1940s (Series 3 of 3)
DESCRIPTION:\n\n[This Program is scheduled on Eastern Time Zone]\n\nMonday\
 , March 20th\n\n2:00 PM ET\n\nJews in Film\, a Women’s League education 
 program:&nbsp\;NIGHT AND DAY— The Jewish Connection to the Movie Musical
 s of the 1940s\n\nLois Silverman\, WLCJ Communications Co-Chair\n&nbsp\;\n
 In the 1940s the creation of Hollywood musicals was led by Jewish composer
 s\, directors\, and writers. The creators included legends of musical thea
 ter including: Irving Berlin\, Sigmund Romberg\, Jerome Kern\, the Gershwi
 n Brothers\, Rodgers and Hart\, and Rodgers and Hammerstein.\n&nbsp\;\nExp
 lore the Jewish contribution to the movie musicals of the 1940s\, a decade
  of vast changes in American society and movie musicals.\n&nbsp\;\nThrough
  discussions and movie clips\, each stand-alone class will investigate cha
 nges to American movie musicals during the decade:\n\nSession 3&nbsp\;will
  explore the post-war years—1946-1949\, Monday\, March 20 @ 2 PM ET\n\n&
 nbsp\;\n\nFREE registration is a benefit of your Women’s League membersh
 ip.&nbsp\;\nZoom link will be sent upon registering.\n\nREGISTER\n\nQuesti
 ons?\nContact\nLois Silverman\nWLCJ Communications Chair\nlsilverman@wlcj.
 org
ATTACH;FMTTYPE=image/jpeg:https://www.wlcj.org/wp-content/uploads/2022/07/
 WL-Jews-in-Film-2023-2.png
CATEGORIES:Featured
END:VEVENT
BEGIN:VTIMEZONE
TZID:America/New_York
X-LIC-LOCATION:America/New_York
BEGIN:DAYLIGHT
DTSTART:20230312T030000
TZOFFSETFROM:-0500
TZOFFSETTO:-0400
TZNAME:EDT
END:DAYLIGHT
END:VTIMEZONE
END:VCALENDAR