BEGIN:VCALENDAR
VERSION:2.0
PRODID:-//wp-events-plugin.com//7.2.3.1//EN
TZID:America/New_York
X-WR-TIMEZONE:America/New_York
BEGIN:VEVENT
UID:1226@wlcj.org
DTSTART;TZID=America/New_York;VALUE=DATE:20250213
DTEND;TZID=America/New_York;VALUE=DATE:20250214
DTSTAMP:20250108T191541Z
URL:https://www.wlcj.org/events/jewish-earth-alliance-virtual-lobby-day/
SUMMARY:Jewish Earth Alliance Virtual Lobby Day
DESCRIPTION:[This Program is scheduled on Eastern Time Zone]\n\nThursday\, 
 February 13th&nbsp\; 7:30 PM ET\nPlease join Jewish Earth Alliance Virtual
  Lobby Day meetings with your United States Senators on Thursday\, Februar
 y 13th\, in honor of Tu Bishvat. We make it easy to lobby: we arrange the 
 appointments\, give lobby training\, and have experienced leaders organize
  participants from each state. We also provide meeting talking points. Rec
 ognizing that Senators' stances on climate change widely differ\, this yea
 r we will provide talking points that take into account differing points o
 f view on the political spectrum and even different words to use.\n&nbsp\;
 \nIf you are able to join us\, please register at this link:&nbsp\;Jewish 
 Earth Alliance Registration Form Tu Bishvat Lobby Day February 13. A webin
 ar on Tuesday\, January 21st at 5:00 pm PT/ 8:00 pm ET will be devoted to 
 preparing for lobby day\, including breakout sessions by state.&nbsp\;Regi
 ster to join us live at the webinar\, but if you miss it\, a recording wil
 l be posted afterwards.\n\n&nbsp\;\n&nbsp\;\n\n&nbsp\;\n\n
ATTACH;FMTTYPE=image/jpeg:https://www.wlcj.org/wp-content/uploads/2025/01/
 JEA-Feb-13-website-1.jpg
CATEGORIES:Featured
END:VEVENT
BEGIN:VTIMEZONE
TZID:America/New_York
X-LIC-LOCATION:America/New_York
BEGIN:STANDARD
DTSTART:20241103T010000
TZOFFSETFROM:-0400
TZOFFSETTO:-0500
TZNAME:EST
END:STANDARD
END:VTIMEZONE
END:VCALENDAR