BEGIN:VCALENDAR
VERSION:2.0
PRODID:-//wp-events-plugin.com//7.2.3.1//EN
TZID:America/New_York
X-WR-TIMEZONE:America/New_York
BEGIN:VEVENT
UID:1364@wlcj.org
DTSTART;TZID=America/New_York:20260225T143000
DTEND;TZID=America/New_York:20260225T143000
DTSTAMP:20260223T212213Z
URL:https://www.wlcj.org/events/emergency-online-briefing-will-arrests-at-
 the-kotel-be-the-new-norm/
SUMMARY:Emergency Online Briefing | Will arrests at the Kotel be the new no
 rm?
DESCRIPTION:20:30 Israel Time | 2:30 pm ET | 1:30 pm CT | 12:30 pm MT | 11:
 30 am PT\n&nbsp\;\n\nREGISTER
ATTACH;FMTTYPE=image/jpeg:https://www.wlcj.org/wp-content/uploads/2026/02/
 kotel_news_website.jpg
CATEGORIES:Featured
END:VEVENT
BEGIN:VTIMEZONE
TZID:America/New_York
X-LIC-LOCATION:America/New_York
BEGIN:STANDARD
DTSTART:20251102T010000
TZOFFSETFROM:-0400
TZOFFSETTO:-0500
TZNAME:EST
END:STANDARD
END:VTIMEZONE
END:VCALENDAR