BEGIN:VCALENDAR
VERSION:2.0
PRODID:-//wp-events-plugin.com//7.2.3.1//EN
TZID:America/New_York
X-WR-TIMEZONE:America/New_York
BEGIN:VEVENT
UID:571@wlcj.org
DTSTART;TZID=America/Chicago:20220817T190000
DTEND;TZID=America/Chicago:20220817T210000
DTSTAMP:20220709T023437Z
URL:https://www.wlcj.org/events/cgl-region-affiliate-presidents-leadership
 -training/
SUMMARY:CGL Region Affiliate Presidents’ Leadership Training
DESCRIPTION:[This program is scheduled on Central Time Zone]\n\nWednesday\,
  August 17th\n\n7:00 PM CT/ 8:00 PM ET\n\n\n\nFor zoom information\, conta
 ct Central Great Lakes Region President\, Pam Schlosberg: cglrpresident21@
 wlcj.org
END:VEVENT
BEGIN:VTIMEZONE
TZID:America/Chicago
X-LIC-LOCATION:America/Chicago
BEGIN:DAYLIGHT
DTSTART:20220313T030000
TZOFFSETFROM:-0600
TZOFFSETTO:-0500
TZNAME:CDT
END:DAYLIGHT
END:VTIMEZONE
END:VCALENDAR